Package: SCFA Version: 1.18.0 Command: /home/biocbuild/R/R/bin/R CMD build --keep-empty-dirs --no-resave-data SCFA StartedAt: 2025-10-14 04:25:17 -0000 (Tue, 14 Oct 2025) EndedAt: 2025-10-14 04:29:03 -0000 (Tue, 14 Oct 2025) EllapsedTime: 225.2 seconds RetCode: 0 Status: OK PackageFile: SCFA_1.18.0.tar.gz PackageFileSize: 1.264 MiB