Package: SCBN Version: 1.28.0 Command: /home/biocbuild/bbs-3.22-bioc/R/bin/R CMD INSTALL SCBN StartedAt: 2025-11-11 15:06:22 -0500 (Tue, 11 Nov 2025) EndedAt: 2025-11-11 15:06:30 -0500 (Tue, 11 Nov 2025) EllapsedTime: 7.8 seconds RetCode: 0 Status: OK