Package: SCBN Version: 1.28.0 Command: /home/biocbuild/bbs-3.22-bioc/R/bin/R CMD build --keep-empty-dirs --no-resave-data --md5 SCBN StartedAt: 2025-11-11 19:58:44 -0500 (Tue, 11 Nov 2025) EndedAt: 2025-11-11 19:59:38 -0500 (Tue, 11 Nov 2025) EllapsedTime: 54.0 seconds RetCode: 0 Status: OK PackageFile: SCBN_1.28.0.tar.gz PackageFileSize: 516.9 KiB