Package: SCArray Version: 1.18.0 Command: /home/biocbuild/R/R/bin/R CMD INSTALL SCArray StartedAt: 2025-11-10 22:05:47 -0000 (Mon, 10 Nov 2025) EndedAt: 2025-11-10 22:06:44 -0000 (Mon, 10 Nov 2025) EllapsedTime: 56.7 seconds RetCode: 0 Status: OK