Package: SCArray Version: 1.18.0 Command: /home/biocbuild/R/R/bin/R CMD check --install=check:SCArray.install-out.txt --library=/home/biocbuild/R/R/site-library --no-vignettes --timings SCArray_1.18.0.tar.gz StartedAt: 2025-11-14 14:07:50 -0000 (Fri, 14 Nov 2025) EndedAt: 2025-11-14 14:12:49 -0000 (Fri, 14 Nov 2025) EllapsedTime: 298.4 seconds RetCode: 0 Status: OK CheckDir: SCArray.Rcheck Warnings: 0