Package: SCArray Version: 1.18.0 Command: /home/biocbuild/R/R/bin/R CMD build --keep-empty-dirs --no-resave-data SCArray StartedAt: 2025-11-11 04:49:34 -0000 (Tue, 11 Nov 2025) EndedAt: 2025-11-11 04:51:07 -0000 (Tue, 11 Nov 2025) EllapsedTime: 93.1 seconds RetCode: 0 Status: OK PackageFile: SCArray_1.18.0.tar.gz PackageFileSize: 1.28 MiB