Package: SCArray Version: 1.18.0 Command: /home/biocbuild/bbs-3.22-bioc/R/bin/R CMD check --install=check:SCArray.install-out.txt --library=/home/biocbuild/bbs-3.22-bioc/R/site-library --timings SCArray_1.18.0.tar.gz StartedAt: 2025-11-12 03:42:39 -0500 (Wed, 12 Nov 2025) EndedAt: 2025-11-12 03:46:54 -0500 (Wed, 12 Nov 2025) EllapsedTime: 255.6 seconds RetCode: 0 Status: OK CheckDir: SCArray.Rcheck Warnings: 0