Package: SCArray Version: 1.16.0 Command: /home/biocbuild/bbs-3.21-bioc/R/bin/R CMD check --install=check:SCArray.install-out.txt --library=/home/biocbuild/bbs-3.21-bioc/R/site-library --timings SCArray_1.16.0.tar.gz StartedAt: 2025-10-16 03:11:44 -0400 (Thu, 16 Oct 2025) EndedAt: 2025-10-16 03:15:53 -0400 (Thu, 16 Oct 2025) EllapsedTime: 248.4 seconds RetCode: 0 Status: OK CheckDir: SCArray.Rcheck Warnings: 0