Package: SCArray Version: 1.16.0 Command: /Library/Frameworks/R.framework/Resources/bin/R CMD check --install=check:SCArray.install-out.txt --library=/Library/Frameworks/R.framework/Resources/library --no-vignettes --timings SCArray_1.16.0.tar.gz StartedAt: 2025-10-15 11:04:32 -0400 (Wed, 15 Oct 2025) EndedAt: 2025-10-15 11:08:30 -0400 (Wed, 15 Oct 2025) EllapsedTime: 238.0 seconds RetCode: 0 Status: OK CheckDir: SCArray.Rcheck Warnings: 0