Package: SCArray.sat Version: 1.10.0 Command: /home/biocbuild/R/R/bin/R CMD INSTALL SCArray.sat StartedAt: 2025-11-10 22:06:44 -0000 (Mon, 10 Nov 2025) EndedAt: 2025-11-10 22:07:41 -0000 (Mon, 10 Nov 2025) EllapsedTime: 56.7 seconds RetCode: 0 Status: OK