Package: SCArray.sat Version: 1.10.0 Command: /home/biocbuild/bbs-3.22-bioc/R/bin/R CMD INSTALL SCArray.sat StartedAt: 2025-11-11 15:59:45 -0500 (Tue, 11 Nov 2025) EndedAt: 2025-11-11 16:00:26 -0500 (Tue, 11 Nov 2025) EllapsedTime: 41.7 seconds RetCode: 0 Status: OK