Package: SCArray.sat Version: 1.10.0 Command: /home/biocbuild/bbs-3.22-bioc/R/bin/R CMD build --keep-empty-dirs --no-resave-data --md5 SCArray.sat StartedAt: 2025-11-11 19:58:04 -0500 (Tue, 11 Nov 2025) EndedAt: 2025-11-11 19:59:04 -0500 (Tue, 11 Nov 2025) EllapsedTime: 60.0 seconds RetCode: 1 Status: ERROR PackageFile: None PackageFileSize: NA