Package: SCArray.sat Version: 1.8.0 Command: /Library/Frameworks/R.framework/Resources/bin/R CMD check --install=check:SCArray.sat.install-out.txt --library=/Library/Frameworks/R.framework/Resources/library --no-vignettes --timings SCArray.sat_1.8.0.tar.gz StartedAt: 2025-10-14 09:46:53 -0400 (Tue, 14 Oct 2025) EndedAt: 2025-10-14 09:56:56 -0400 (Tue, 14 Oct 2025) EllapsedTime: 602.4 seconds RetCode: 0 Status: OK CheckDir: SCArray.sat.Rcheck Warnings: 0