Package: SCArray.sat Version: 1.8.0 Command: rm -rf SCArray.sat.buildbin-libdir && mkdir SCArray.sat.buildbin-libdir && /Users/biocbuild/BBS/utils/build-universal.sh SCArray.sat_1.8.0.tar.gz /Library/Frameworks/R.framework/Resources/bin/R SCArray.sat.buildbin-libdir StartedAt: 2025-09-26 15:44:11 -0400 (Fri, 26 Sep 2025) EndedAt: 2025-09-26 15:56:32 -0400 (Fri, 26 Sep 2025) EllapsedTime: 740.9 seconds RetCode: 0 Status: OK PackageFile: SCArray.sat_1.8.0.tgz PackageFileSize: 817.4 KiB