Package: SCANVIS Version: 1.24.0 Command: /Library/Frameworks/R.framework/Resources/bin/R CMD INSTALL SCANVIS StartedAt: 2025-10-31 15:37:28 -0400 (Fri, 31 Oct 2025) EndedAt: 2025-10-31 15:38:09 -0400 (Fri, 31 Oct 2025) EllapsedTime: 41.2 seconds RetCode: 0 Status: OK