Package: SCANVIS Version: 1.24.0 Command: /Library/Frameworks/R.framework/Resources/bin/R CMD build --keep-empty-dirs --no-resave-data SCANVIS StartedAt: 2025-10-31 18:38:58 -0400 (Fri, 31 Oct 2025) EndedAt: 2025-10-31 18:39:58 -0400 (Fri, 31 Oct 2025) EllapsedTime: 60.1 seconds RetCode: 0 Status: OK PackageFile: SCANVIS_1.24.0.tar.gz PackageFileSize: 469.7 KiB