Package: SCANVIS Version: 1.22.0 Command: /home/biocbuild/R/R/bin/R CMD INSTALL SCANVIS StartedAt: 2025-10-13 20:41:47 -0000 (Mon, 13 Oct 2025) EndedAt: 2025-10-13 20:42:30 -0000 (Mon, 13 Oct 2025) EllapsedTime: 43.1 seconds RetCode: 0 Status: OK