Package: SCANVIS Version: 1.22.0 Command: /home/biocbuild/R/R/bin/R CMD build --keep-empty-dirs --no-resave-data SCANVIS StartedAt: 2025-10-14 04:20:25 -0000 (Tue, 14 Oct 2025) EndedAt: 2025-10-14 04:21:33 -0000 (Tue, 14 Oct 2025) EllapsedTime: 68.1 seconds RetCode: 0 Status: OK PackageFile: SCANVIS_1.22.0.tar.gz PackageFileSize: 465.2 KiB