Package: SCANVIS Version: 1.22.0 Command: rm -rf SCANVIS.buildbin-libdir && mkdir SCANVIS.buildbin-libdir && /Users/biocbuild/BBS/utils/build-universal.sh SCANVIS_1.22.0.tar.gz /Library/Frameworks/R.framework/Resources/bin/R SCANVIS.buildbin-libdir StartedAt: 2025-04-21 22:50:50 -0400 (Mon, 21 Apr 2025) EndedAt: 2025-04-21 22:51:04 -0400 (Mon, 21 Apr 2025) EllapsedTime: 14.3 seconds RetCode: 0 Status: OK PackageFile: SCANVIS_1.22.0.tgz PackageFileSize: 429.2 KiB