Package: SCAN.UPC Version: 2.52.0 Command: /home/biocbuild/R/R/bin/R CMD INSTALL SCAN.UPC StartedAt: 2025-11-13 21:42:18 -0000 (Thu, 13 Nov 2025) EndedAt: 2025-11-13 21:43:02 -0000 (Thu, 13 Nov 2025) EllapsedTime: 44.1 seconds RetCode: 0 Status: OK