Package: SCAN.UPC Version: 2.52.0 Command: /home/biocbuild/R/R/bin/R CMD build --keep-empty-dirs --no-resave-data SCAN.UPC StartedAt: 2025-11-14 04:59:43 -0000 (Fri, 14 Nov 2025) EndedAt: 2025-11-14 05:00:43 -0000 (Fri, 14 Nov 2025) EllapsedTime: 60.1 seconds RetCode: 0 Status: OK PackageFile: SCAN.UPC_2.52.0.tar.gz PackageFileSize: 683.5 KiB