Package: SCAN.UPC Version: 2.52.0 Command: /home/biocbuild/bbs-3.22-bioc/R/bin/R CMD INSTALL SCAN.UPC StartedAt: 2025-11-11 15:38:14 -0500 (Tue, 11 Nov 2025) EndedAt: 2025-11-11 15:38:49 -0500 (Tue, 11 Nov 2025) EllapsedTime: 34.5 seconds RetCode: 0 Status: OK