Package: SCAN.UPC Version: 2.52.0 Command: /home/biocbuild/bbs-3.22-bioc/R/bin/R CMD build --keep-empty-dirs --no-resave-data --md5 SCAN.UPC StartedAt: 2025-11-11 19:56:55 -0500 (Tue, 11 Nov 2025) EndedAt: 2025-11-11 19:57:34 -0500 (Tue, 11 Nov 2025) EllapsedTime: 39.0 seconds RetCode: 0 Status: OK PackageFile: SCAN.UPC_2.52.0.tar.gz PackageFileSize: 690.4 KiB