Package: SCAN.UPC Version: 2.50.0 Command: /home/biocbuild/bbs-3.21-bioc/R/bin/R CMD INSTALL SCAN.UPC StartedAt: 2025-10-05 15:33:05 -0400 (Sun, 05 Oct 2025) EndedAt: 2025-10-05 15:33:36 -0400 (Sun, 05 Oct 2025) EllapsedTime: 31.8 seconds RetCode: 0 Status: OK