Package: SCAN.UPC Version: 2.50.0 Command: /home/biocbuild/bbs-3.21-bioc/R/bin/R CMD build --keep-empty-dirs --no-resave-data SCAN.UPC StartedAt: 2025-10-05 19:40:47 -0400 (Sun, 05 Oct 2025) EndedAt: 2025-10-05 19:41:23 -0400 (Sun, 05 Oct 2025) EllapsedTime: 36.0 seconds RetCode: 0 Status: OK PackageFile: SCAN.UPC_2.50.0.tar.gz PackageFileSize: 688.9 KiB