Package: SCAN.UPC Version: 2.50.0 Command: /Library/Frameworks/R.framework/Resources/bin/R CMD build --keep-empty-dirs --no-resave-data SCAN.UPC StartedAt: 2025-10-13 22:15:54 -0400 (Mon, 13 Oct 2025) EndedAt: 2025-10-13 22:17:17 -0400 (Mon, 13 Oct 2025) EllapsedTime: 83.5 seconds RetCode: 0 Status: OK PackageFile: SCAN.UPC_2.50.0.tar.gz PackageFileSize: 688.7 KiB