Package: SCAN.UPC Version: 2.50.0 Command: /Library/Frameworks/R.framework/Resources/bin/R CMD build --keep-empty-dirs --no-resave-data SCAN.UPC StartedAt: 2025-10-07 08:48:35 -0400 (Tue, 07 Oct 2025) EndedAt: 2025-10-07 08:49:53 -0400 (Tue, 07 Oct 2025) EllapsedTime: 78.0 seconds RetCode: 0 Status: OK PackageFile: SCAN.UPC_2.50.0.tar.gz PackageFileSize: 689.1 KiB