Package: SC3 Version: 1.38.0 Command: /home/biocbuild/R/R/bin/R CMD INSTALL SC3 StartedAt: 2025-11-10 21:25:59 -0000 (Mon, 10 Nov 2025) EndedAt: 2025-11-10 21:27:03 -0000 (Mon, 10 Nov 2025) EllapsedTime: 64.5 seconds RetCode: 0 Status: OK