Package: SC3 Version: 1.38.0 Command: /home/biocbuild/R/R/bin/R CMD build --keep-empty-dirs --no-resave-data SC3 StartedAt: 2025-11-11 04:47:53 -0000 (Tue, 11 Nov 2025) EndedAt: 2025-11-11 04:57:02 -0000 (Tue, 11 Nov 2025) EllapsedTime: 549.5 seconds RetCode: 0 Status: OK PackageFile: SC3_1.38.0.tar.gz PackageFileSize: 2.422 MiB