Package: SC3 Version: 1.38.0 Command: /home/biocbuild/bbs-3.22-bioc/R/bin/R CMD INSTALL SC3 StartedAt: 2025-11-11 15:23:21 -0500 (Tue, 11 Nov 2025) EndedAt: 2025-11-11 15:24:03 -0500 (Tue, 11 Nov 2025) EllapsedTime: 41.5 seconds RetCode: 0 Status: OK