Package: SC3 Version: 1.38.0 Command: /home/biocbuild/bbs-3.22-bioc/R/bin/R CMD check --install=check:SC3.install-out.txt --library=/home/biocbuild/bbs-3.22-bioc/R/site-library --timings SC3_1.38.0.tar.gz StartedAt: 2025-11-12 03:41:19 -0500 (Wed, 12 Nov 2025) EndedAt: 2025-11-12 03:50:40 -0500 (Wed, 12 Nov 2025) EllapsedTime: 560.9 seconds RetCode: 0 Status: OK CheckDir: SC3.Rcheck Warnings: 0