Package: SC3 Version: 1.38.0 Command: /home/biocbuild/bbs-3.22-bioc/R/bin/R CMD build --keep-empty-dirs --no-resave-data --md5 SC3 StartedAt: 2025-11-11 19:56:17 -0500 (Tue, 11 Nov 2025) EndedAt: 2025-11-11 20:03:08 -0500 (Tue, 11 Nov 2025) EllapsedTime: 411.3 seconds RetCode: 0 Status: OK PackageFile: SC3_1.38.0.tar.gz PackageFileSize: 3.353 MiB