Package: SC3 Version: 1.36.0 Command: /Library/Frameworks/R.framework/Resources/bin/R CMD INSTALL SC3 StartedAt: 2025-10-02 15:33:29 -0400 (Thu, 02 Oct 2025) EndedAt: 2025-10-02 15:35:01 -0400 (Thu, 02 Oct 2025) EllapsedTime: 92.0 seconds RetCode: 0 Status: OK