Package: SC3 Version: 1.36.0 Command: /Library/Frameworks/R.framework/Resources/bin/R CMD build --keep-empty-dirs --no-resave-data SC3 StartedAt: 2025-10-02 22:16:34 -0400 (Thu, 02 Oct 2025) EndedAt: 2025-10-02 22:33:03 -0400 (Thu, 02 Oct 2025) EllapsedTime: 988.2 seconds RetCode: 0 Status: OK PackageFile: SC3_1.36.0.tar.gz PackageFileSize: 3.372 MiB