Package: SC3 Version: 1.36.0 Command: rm -rf SC3.buildbin-libdir && mkdir SC3.buildbin-libdir && /Users/biocbuild/BBS/utils/build-universal.sh SC3_1.36.0.tar.gz /Library/Frameworks/R.framework/Resources/bin/R SC3.buildbin-libdir StartedAt: 2025-10-03 14:27:30 -0400 (Fri, 03 Oct 2025) EndedAt: 2025-10-03 14:29:30 -0400 (Fri, 03 Oct 2025) EllapsedTime: 119.8 seconds RetCode: 0 Status: OK PackageFile: SC3_1.36.0.tgz PackageFileSize: 4.612 MiB