Package: SBMLR Version: 2.6.0 Command: /home/biocbuild/bbs-3.22-bioc/R/bin/R CMD INSTALL SBMLR StartedAt: 2025-11-11 15:06:46 -0500 (Tue, 11 Nov 2025) EndedAt: 2025-11-11 15:07:00 -0500 (Tue, 11 Nov 2025) EllapsedTime: 13.6 seconds RetCode: 0 Status: OK