Package: SBMLR Version: 2.6.0 Command: /home/biocbuild/bbs-3.22-bioc/R/bin/R CMD check --install=check:SBMLR.install-out.txt --library=/home/biocbuild/bbs-3.22-bioc/R/site-library --timings SBMLR_2.6.0.tar.gz StartedAt: 2025-11-18 08:06:16 -0500 (Tue, 18 Nov 2025) EndedAt: 2025-11-18 08:06:51 -0500 (Tue, 18 Nov 2025) EllapsedTime: 35.1 seconds RetCode: 0 Status: OK CheckDir: SBMLR.Rcheck Warnings: 0