Package: SBMLR Version: 2.6.0 Command: /home/biocbuild/bbs-3.22-bioc/R/bin/R CMD build --keep-empty-dirs --no-resave-data --md5 SBMLR StartedAt: 2025-11-11 19:56:14 -0500 (Tue, 11 Nov 2025) EndedAt: 2025-11-11 19:56:24 -0500 (Tue, 11 Nov 2025) EllapsedTime: 10.0 seconds RetCode: 0 Status: OK PackageFile: SBMLR_2.6.0.tar.gz PackageFileSize: 276.1 KiB