Package: SBMLR Version: 2.6.0 Command: /Library/Frameworks/R.framework/Resources/bin/R CMD INSTALL SBMLR StartedAt: 2025-11-03 15:09:34 -0500 (Mon, 03 Nov 2025) EndedAt: 2025-11-03 15:10:14 -0500 (Mon, 03 Nov 2025) EllapsedTime: 40.2 seconds RetCode: 0 Status: OK