Package: SBMLR Version: 2.6.0 Command: /Library/Frameworks/R.framework/Resources/bin/R CMD build --keep-empty-dirs --no-resave-data SBMLR StartedAt: 2025-11-03 18:35:42 -0500 (Mon, 03 Nov 2025) EndedAt: 2025-11-03 18:35:59 -0500 (Mon, 03 Nov 2025) EllapsedTime: 17.2 seconds RetCode: 0 Status: OK PackageFile: SBMLR_2.6.0.tar.gz PackageFileSize: 274.6 KiB