Package: SBMLR Version: 2.6.0 Command: rm -rf SBMLR.buildbin-libdir && mkdir SBMLR.buildbin-libdir && /Users/biocbuild/BBS/utils/build-universal.sh SBMLR_2.6.0.tar.gz /Library/Frameworks/R.framework/Resources/bin/R SBMLR.buildbin-libdir StartedAt: 2025-11-04 02:01:41 -0500 (Tue, 04 Nov 2025) EndedAt: 2025-11-04 02:01:50 -0500 (Tue, 04 Nov 2025) EllapsedTime: 8.1 seconds RetCode: 0 Status: OK PackageFile: SBMLR_2.6.0.tgz PackageFileSize: 313.7 KiB