Package: SBMLR Version: 2.4.0 Command: /home/biocbuild/R/R/bin/R CMD INSTALL SBMLR StartedAt: 2025-10-06 20:13:10 -0000 (Mon, 06 Oct 2025) EndedAt: 2025-10-06 20:13:31 -0000 (Mon, 06 Oct 2025) EllapsedTime: 20.6 seconds RetCode: 0 Status: OK