Package: SBMLR Version: 2.4.0 Command: /home/biocbuild/R/R/bin/R CMD build --keep-empty-dirs --no-resave-data SBMLR StartedAt: 2025-10-07 04:15:50 -0000 (Tue, 07 Oct 2025) EndedAt: 2025-10-07 04:16:03 -0000 (Tue, 07 Oct 2025) EllapsedTime: 13.0 seconds RetCode: 0 Status: OK PackageFile: SBMLR_2.4.0.tar.gz PackageFileSize: 268.8 KiB