Package: SBMLR Version: 2.4.0 Command: /Library/Frameworks/R.framework/Resources/bin/R CMD INSTALL SBMLR StartedAt: 2025-04-21 15:01:30 -0400 (Mon, 21 Apr 2025) EndedAt: 2025-04-21 15:01:34 -0400 (Mon, 21 Apr 2025) EllapsedTime: 4.0 seconds RetCode: 0 Status: OK