Package: SBGNview Version: 1.24.0 Command: /home/biocbuild/bbs-3.22-bioc/R/bin/R CMD INSTALL SBGNview StartedAt: 2025-11-13 15:27:42 -0500 (Thu, 13 Nov 2025) EndedAt: 2025-11-13 15:28:23 -0500 (Thu, 13 Nov 2025) EllapsedTime: 40.5 seconds RetCode: 0 Status: OK