Package: SARC Version: 1.8.0 Command: /home/biocbuild/bbs-3.22-bioc/R/bin/R CMD check --install=check:SARC.install-out.txt --library=/home/biocbuild/bbs-3.22-bioc/R/site-library --timings SARC_1.8.0.tar.gz StartedAt: 2025-11-18 08:05:42 -0500 (Tue, 18 Nov 2025) EndedAt: 2025-11-18 08:11:43 -0500 (Tue, 18 Nov 2025) EllapsedTime: 361.8 seconds RetCode: 1 Status: ERROR CheckDir: SARC.Rcheck Warnings: NA