Package: SARC Version: 1.6.0 Command: /home/biocbuild/R/R/bin/R CMD INSTALL SARC StartedAt: 2025-10-13 21:19:43 -0000 (Mon, 13 Oct 2025) EndedAt: 2025-10-13 21:20:39 -0000 (Mon, 13 Oct 2025) EllapsedTime: 55.8 seconds RetCode: 0 Status: OK