Package: SARC Version: 1.6.0 Command: /home/biocbuild/R/R/bin/R CMD build --keep-empty-dirs --no-resave-data SARC StartedAt: 2025-10-14 04:18:17 -0000 (Tue, 14 Oct 2025) EndedAt: 2025-10-14 04:21:21 -0000 (Tue, 14 Oct 2025) EllapsedTime: 184.1 seconds RetCode: 0 Status: OK PackageFile: SARC_1.6.0.tar.gz PackageFileSize: 3.554 MiB