Package: SAIGEgds Version: 2.10.0 Command: /home/biocbuild/bbs-3.22-bioc/R/bin/R CMD INSTALL SAIGEgds StartedAt: 2025-11-13 15:24:17 -0500 (Thu, 13 Nov 2025) EndedAt: 2025-11-13 15:25:35 -0500 (Thu, 13 Nov 2025) EllapsedTime: 78.0 seconds RetCode: 0 Status: OK