############################################################################## ############################################################################## ### ### Running command: ### ### /home/biocbuild/bbs-3.22-bioc/R/bin/R CMD INSTALL SAIGEgds ### ############################################################################## ############################################################################## * installing to library ‘/home/biocbuild/bbs-3.22-bioc/R/site-library’ * installing *source* package ‘SAIGEgds’ ... ** this is package ‘SAIGEgds’ version ‘2.10.0’ ** using staged installation ** libs using C++ compiler: ‘g++ (Ubuntu 13.3.0-6ubuntu2~24.04) 13.3.0’ g++ -std=gnu++17 -I"/home/biocbuild/bbs-3.22-bioc/R/include" -DNDEBUG -DARMA_64BIT_WORD=1 -I'/home/biocbuild/bbs-3.22-bioc/R/site-library/Rcpp/include' -I'/home/biocbuild/bbs-3.22-bioc/R/site-library/RcppArmadillo/include' -I'/home/biocbuild/bbs-3.22-bioc/R/site-library/RcppParallel/include' -I/usr/local/include -fpic -g -O2 -Wall -Werror=format-security -c SPATest.cpp -o SPATest.o g++ -std=gnu++17 -I"/home/biocbuild/bbs-3.22-bioc/R/include" -DNDEBUG -DARMA_64BIT_WORD=1 -I'/home/biocbuild/bbs-3.22-bioc/R/site-library/Rcpp/include' -I'/home/biocbuild/bbs-3.22-bioc/R/site-library/RcppArmadillo/include' -I'/home/biocbuild/bbs-3.22-bioc/R/site-library/RcppParallel/include' -I/usr/local/include -fpic -g -O2 -Wall -Werror=format-security -c saige_fitnull.cpp -o saige_fitnull.o g++ -std=gnu++17 -I"/home/biocbuild/bbs-3.22-bioc/R/include" -DNDEBUG -DARMA_64BIT_WORD=1 -I'/home/biocbuild/bbs-3.22-bioc/R/site-library/Rcpp/include' -I'/home/biocbuild/bbs-3.22-bioc/R/site-library/RcppArmadillo/include' -I'/home/biocbuild/bbs-3.22-bioc/R/site-library/RcppParallel/include' -I/usr/local/include -fpic -g -O2 -Wall -Werror=format-security -c saige_main.cpp -o saige_main.o g++ -std=gnu++17 -I"/home/biocbuild/bbs-3.22-bioc/R/include" -DNDEBUG -DARMA_64BIT_WORD=1 -I'/home/biocbuild/bbs-3.22-bioc/R/site-library/Rcpp/include' -I'/home/biocbuild/bbs-3.22-bioc/R/site-library/RcppArmadillo/include' -I'/home/biocbuild/bbs-3.22-bioc/R/site-library/RcppParallel/include' -I/usr/local/include -fpic -g -O2 -Wall -Werror=format-security -c saige_misc.cpp -o saige_misc.o g++ -std=gnu++17 -I"/home/biocbuild/bbs-3.22-bioc/R/include" -DNDEBUG -DARMA_64BIT_WORD=1 -I'/home/biocbuild/bbs-3.22-bioc/R/site-library/Rcpp/include' -I'/home/biocbuild/bbs-3.22-bioc/R/site-library/RcppArmadillo/include' -I'/home/biocbuild/bbs-3.22-bioc/R/site-library/RcppParallel/include' -I/usr/local/include -fpic -g -O2 -Wall -Werror=format-security -c saige_permu.cpp -o saige_permu.o saige_permu.cpp: In function ‘void SKATExactBin_ComputeProb_Group(arma::uvec&, arma::uvec&, arma::vec&, uint32_t, uint32_t, int, std::vector&)’: saige_permu.cpp:119:24: warning: comparison of integer expressions of different signedness: ‘int’ and ‘std::vector::size_type’ {aka ‘long unsigned int’} [-Wsign-compare] 119 | for(int i=0; i < weight.size(); i++) | ~~^~~~~~~~~~~~~~~ g++ -std=gnu++17 -I"/home/biocbuild/bbs-3.22-bioc/R/include" -DNDEBUG -DARMA_64BIT_WORD=1 -I'/home/biocbuild/bbs-3.22-bioc/R/site-library/Rcpp/include' -I'/home/biocbuild/bbs-3.22-bioc/R/site-library/RcppArmadillo/include' -I'/home/biocbuild/bbs-3.22-bioc/R/site-library/RcppParallel/include' -I/usr/local/include -fpic -g -O2 -Wall -Werror=format-security -c vec_ext_avx2.cpp -o vec_ext_avx2.o g++ -std=gnu++17 -I"/home/biocbuild/bbs-3.22-bioc/R/include" -DNDEBUG -DARMA_64BIT_WORD=1 -I'/home/biocbuild/bbs-3.22-bioc/R/site-library/Rcpp/include' -I'/home/biocbuild/bbs-3.22-bioc/R/site-library/RcppArmadillo/include' -I'/home/biocbuild/bbs-3.22-bioc/R/site-library/RcppParallel/include' -I/usr/local/include -fpic -g -O2 -Wall -Werror=format-security -c vec_ext_avx512bw.cpp -o vec_ext_avx512bw.o g++ -std=gnu++17 -I"/home/biocbuild/bbs-3.22-bioc/R/include" -DNDEBUG -DARMA_64BIT_WORD=1 -I'/home/biocbuild/bbs-3.22-bioc/R/site-library/Rcpp/include' -I'/home/biocbuild/bbs-3.22-bioc/R/site-library/RcppArmadillo/include' -I'/home/biocbuild/bbs-3.22-bioc/R/site-library/RcppParallel/include' -I/usr/local/include -fpic -g -O2 -Wall -Werror=format-security -c vec_ext_def.cpp -o vec_ext_def.o g++ -std=gnu++17 -I"/home/biocbuild/bbs-3.22-bioc/R/include" -DNDEBUG -DARMA_64BIT_WORD=1 -I'/home/biocbuild/bbs-3.22-bioc/R/site-library/Rcpp/include' -I'/home/biocbuild/bbs-3.22-bioc/R/site-library/RcppArmadillo/include' -I'/home/biocbuild/bbs-3.22-bioc/R/site-library/RcppParallel/include' -I/usr/local/include -fpic -g -O2 -Wall -Werror=format-security -c vectorization.cpp -o vectorization.o g++ -std=gnu++17 -shared -L/home/biocbuild/bbs-3.22-bioc/R/lib -L/usr/local/lib -o SAIGEgds.so SPATest.o saige_fitnull.o saige_main.o saige_misc.o saige_permu.o vec_ext_avx2.o vec_ext_avx512bw.o vec_ext_def.o vectorization.o -lm -llapack -L/home/biocbuild/bbs-3.22-bioc/R/lib -lRblas -lgfortran -lm -lquadmath -lgcc -L/home/biocbuild/bbs-3.22-bioc/R/lib -lR installing to /home/biocbuild/bbs-3.22-bioc/R/site-library/00LOCK-SAIGEgds/00new/SAIGEgds/libs ** R ** inst ** byte-compile and prepare package for lazy loading ** help *** installing help indices ** building package indices ** installing vignettes ** testing if installed package can be loaded from temporary location ** checking absolute paths in shared objects and dynamic libraries ** testing if installed package can be loaded from final location ** testing if installed package keeps a record of temporary installation path * DONE (SAIGEgds)